Workbook
Name Anticipo: #N/A
Name Plurianualidad: #N/A
Name Procedimiento: #N/A

Sheet Investigacion de Mercado
B1: INVESTIGACIÓN DE MERCADO
W2: FO-CON-05
B3: Fecha | C3: 30 de agosto 2024
B4: No. de requisición
B5: Procedimiento | W5: Federal18
B7: Nombre de la dependencia o entidad :
A9: IMPRIMIR | B9: Nombre del proveedor | C9: RFC del proveedor | D9: Número de identificación del bien, arrendamiento o servicio | F9: Proporciona las condiciones solicitadas de calidad y oportunidad | G9: Cantidad que puede surtir | H9: Origen del bien | I9: Requisito 1 | J9: Requisito 2 | K9: Requisito N | L9: Precio | M9: Precio Aceptable | N9: Max | O9: Promedio para aceptable | P9: Promedio para conveniente | Q9: Min | R9: Aceptable | S9: Conveniente | T9: Procedencia del estudio | U9: Cantidad Requerida | V9: Unidad de Medida | W9: Partida presupuestal | X9: CUCOP | Y9: Clave SAP | Z9: POSICION O PARTIDA | AA9: DESCRIPCIÓN
A10: =IF((B10>1),"SI","NO") -> NO | D10: 989898 | F10: Si | G10: =+U10 -> 9 | I10: NA | J10: NA | K10: NA | L10: 0 | U10: 9 | X10: =D10 -> 989898 | Z10: 1
A11: =IF((B11>1),"SI","NO") -> NO | D11: =+D10 -> 989898 | F11: Si | G11: =+G10 -> 9 | I11: NA | J11: NA | K11: NA
A12: =IF((B12>1),"SI","NO") -> NO | D12: =+D11 -> 989898 | F12: Si | G12: =+G11 -> 9 | I12: NA | J12: NA | K12: NA | M12: =(MEDIAN(L10:L12))*1.1 -> 0 | N12: =MAX(L10:L12) -> 0 | O12: =AVERAGE(L10:L12)*1.2 -> 0 | P12: =AVERAGE(L10:L12)/1.4 -> 0 | Q12: =MIN(L10:L12) -> 0 | R12: =IF((N12>O12),1,) -> 0 | S12: =IF((Q12<P12),1,) -> 0 | T12: =IF(((R12+S12)>0), "No procede", "Procede") -> Procede
A13: =IF((B13>1),"SI","NO") -> NO | F13: Si | G13: =+U13 -> 0 | I13: NA | J13: NA | K13: NA | L13: 0 | X13: =D13 -> 0 | Z13: =+Z10+1 -> 2
A14: =IF((B14>1),"SI","NO") -> NO | D14: =+D13 -> 0 | F14: Si | G14: =+G13 -> 0 | I14: NA | J14: NA | K14: NA
A15: =IF((B15>1),"SI","NO") -> NO | D15: =+D14 -> 0 | F15: Si | G15: =+G14 -> 0 | I15: NA | J15: NA | K15: NA | M15: =(MEDIAN(L13:L15))*1.1 -> 0 | N15: =MAX(L13:L15) -> 0 | O15: =AVERAGE(L13:L15)*1.2 -> 0 | P15: =AVERAGE(L13:L15)/1.4 -> 0 | Q15: =MIN(L13:L15) -> 0 | R15: =IF((N15>O15),1,) -> 0 | S15: =IF((Q15<P15),1,) -> 0 | T15: =IF(((R15+S15)>0), "No procede", "Procede") -> Procede
A16: =IF((B16>1),"SI","NO") -> NO | F16: Si | G16: =+U16 -> 0 | I16: NA | J16: NA | K16: NA | L16: 0 | X16: =D16 -> 0 | Z16: =+Z13+1 -> 3
A17: =IF((B17>1),"SI","NO") -> NO | D17: =+D16 -> 0 | F17: Si | G17: =+G16 -> 0 | I17: NA | J17: NA | K17: NA
A18: =IF((B18>1),"SI","NO") -> NO | D18: =+D17 -> 0 | F18: Si | G18: =+G17 -> 0 | I18: NA | J18: NA | K18: NA | M18: =(MEDIAN(L16:L18))*1.1 -> 0 | N18: =MAX(L16:L18) -> 0 | O18: =AVERAGE(L16:L18)*1.2 -> 0 | P18: =AVERAGE(L16:L18)/1.4 -> 0 | Q18: =MIN(L16:L18) -> 0 | R18: =IF((N18>O18),1,) -> 0 | S18: =IF((Q18<P18),1,) -> 0 | T18: =IF(((R18+S18)>0), "No procede", "Procede") -> Procede
A19: =IF((B19>1),"SI","NO") -> NO | F19: Si | G19: =+U19 -> 0 | I19: NA | J19: NA | K19: NA | L19: 0 | X19: =D19 -> 0 | Z19: =+Z16+1 -> 4
A20: =IF((B20>1),"SI","NO") -> NO | D20: =+D19 -> 0 | F20: Si | G20: =+G19 -> 0 | I20: NA | J20: NA | K20: NA
A21: =IF((B21>1),"SI","NO") -> NO | D21: =+D20 -> 0 | F21: Si | G21: =+G20 -> 0 | I21: NA | J21: NA | K21: NA | M21: =(MEDIAN(L19:L21))*1.1 -> 0 | N21: =MAX(L19:L21) -> 0 | O21: =AVERAGE(L19:L21)*1.2 -> 0 | P21: =AVERAGE(L19:L21)/1.4 -> 0 | Q21: =MIN(L19:L21) -> 0 | R21: =IF((N21>O21),1,) -> 0 | S21: =IF((Q21<P21),1,) -> 0 | T21: =IF(((R21+S21)>0), "No procede", "Procede") -> Procede
A22: =IF((B22>1),"SI","NO") -> NO | F22: Si | G22: =+U22 -> 0 | I22: NA | J22: NA | K22: NA | L22: 0 | X22: =D22 -> 0 | Z22: =+Z19+1 -> 5
A23: =IF((B23>1),"SI","NO") -> NO | D23: =+D22 -> 0 | F23: Si | G23: =+G22 -> 0 | I23: NA | J23: NA | K23: NA
A24: =IF((B24>1),"SI","NO") -> NO | D24: =+D23 -> 0 | F24: Si | G24: =+G23 -> 0 | I24: NA | J24: NA | K24: NA | M24: =(MEDIAN(L22:L24))*1.1 -> 0 | N24: =MAX(L22:L24) -> 0 | O24: =AVERAGE(L22:L24)*1.2 -> 0 | P24: =AVERAGE(L22:L24)/1.4 -> 0 | Q24: =MIN(L22:L24) -> 0 | R24: =IF((N24>O24),1,) -> 0 | S24: =IF((Q24<P24),1,) -> 0 | T24: =IF(((R24+S24)>0), "No procede", "Procede") -> Procede
A25: =IF((B25>1),"SI","NO") -> NO | F25: Si | G25: =+U25 -> 0 | I25: NA | J25: NA | K25: NA | L25: 0 | X25: =D25 -> 0 | Z25: =+Z22+1 -> 6
A26: =IF((B26>1),"SI","NO") -> NO | D26: =+D25 -> 0 | F26: Si | G26: =+G25 -> 0 | I26: NA | J26: NA | K26: NA
A27: =IF((B27>1),"SI","NO") -> NO | D27: =+D26 -> 0 | F27: Si | G27: =+G26 -> 0 | I27: NA | J27: NA | K27: NA | M27: =(MEDIAN(L25:L27))*1.1 -> 0 | N27: =MAX(L25:L27) -> 0 | O27: =AVERAGE(L25:L27)*1.2 -> 0 | P27: =AVERAGE(L25:L27)/1.4 -> 0 | Q27: =MIN(L25:L27) -> 0 | R27: =IF((N27>O27),1,) -> 0 | S27: =IF((Q27<P27),1,) -> 0 | T27: =IF(((R27+S27)>0), "No procede", "Procede") -> Procede
A28: =IF((B28>1),"SI","NO") -> NO | F28: Si | G28: =+U28 -> 0 | I28: NA | J28: NA | K28: NA | L28: 0 | X28: =D28 -> 0 | Z28: =+Z25+1 -> 7
A29: =IF((B29>1),"SI","NO") -> NO | D29: =+D28 -> 0 | F29: Si | G29: =+G28 -> 0 | I29: NA | J29: NA | K29: NA
A30: =IF((B30>1),"SI","NO") -> NO | D30: =+D29 -> 0 | F30: Si | G30: =+G29 -> 0 | I30: NA | J30: NA | K30: NA | M30: =(MEDIAN(L28:L30))*1.1 -> 0 | N30: =MAX(L28:L30) -> 0 | O30: =AVERAGE(L28:L30)*1.2 -> 0 | P30: =AVERAGE(L28:L30)/1.4 -> 0 | Q30: =MIN(L28:L30) -> 0 | R30: =IF((N30>O30),1,) -> 0 | S30: =IF((Q30<P30),1,) -> 0 | T30: =IF(((R30+S30)>0), "No procede", "Procede") -> Procede
A31: =IF((B31>1),"SI","NO") -> NO | F31: Si | G31: =+U31 -> 0 | I31: NA | J31: NA | K31: NA | L31: 0 | X31: =D31 -> 0 | Z31: =+Z28+1 -> 8
A32: =IF((B32>1),"SI","NO") -> NO | D32: =+D31 -> 0 | F32: Si | G32: =+G31 -> 0 | I32: NA | J32: NA | K32: NA
A33: =IF((B33>1),"SI","NO") -> NO | D33: =+D32 -> 0 | F33: Si | G33: =+G32 -> 0 | I33: NA | J33: NA | K33: NA | M33: =(MEDIAN(L31:L33))*1.1 -> 0 | N33: =MAX(L31:L33) -> 0 | O33: =AVERAGE(L31:L33)*1.2 -> 0 | P33: =AVERAGE(L31:L33)/1.4 -> 0 | Q33: =MIN(L31:L33) -> 0 | R33: =IF((N33>O33),1,) -> 0 | S33: =IF((Q33<P33),1,) -> 0 | T33: =IF(((R33+S33)>0), "No procede", "Procede") -> Procede
A34: =IF((B34>1),"SI","NO") -> NO | F34: Si | G34: =+U34 -> 0 | I34: NA | J34: NA | K34: NA | L34: 0 | X34: =D34 -> 0 | Z34: =+Z31+1 -> 9
A35: =IF((B35>1),"SI","NO") -> NO | D35: =+D34 -> 0 | F35: Si | G35: =+G34 -> 0 | I35: NA | J35: NA | K35: NA
A36: =IF((B36>1),"SI","NO") -> NO | D36: =+D35 -> 0 | F36: Si | G36: =+G35 -> 0 | I36: NA | J36: NA | K36: NA | M36: =(MEDIAN(L34:L36))*1.1 -> 0 | N36: =MAX(L34:L36) -> 0 | O36: =AVERAGE(L34:L36)*1.2 -> 0 | P36: =AVERAGE(L34:L36)/1.4 -> 0 | Q36: =MIN(L34:L36) -> 0 | R36: =IF((N36>O36),1,) -> 0 | S36: =IF((Q36<P36),1,) -> 0 | T36: =IF(((R36+S36)>0), "No procede", "Procede") -> Procede
A37: =IF((B37>1),"SI","NO") -> NO | F37: Si | G37: =+U37 -> 0 | I37: NA | J37: NA | K37: NA | L37: 0 | X37: =D37 -> 0 | Z37: =+Z34+1 -> 10
A38: =IF((B38>1),"SI","NO") -> NO | D38: =+D37 -> 0 | F38: Si | G38: =+G37 -> 0 | I38: NA | J38: NA | K38: NA
A39: =IF((B39>1),"SI","NO") -> NO | D39: =+D38 -> 0 | F39: Si | G39: =+G38 -> 0 | I39: NA | J39: NA | K39: NA | M39: =(MEDIAN(L37:L39))*1.1 -> 0 | N39: =MAX(L37:L39) -> 0 | O39: =AVERAGE(L37:L39)*1.2 -> 0 | P39: =AVERAGE(L37:L39)/1.4 -> 0 | Q39: =MIN(L37:L39) -> 0 | R39: =IF((N39>O39),1,) -> 0 | S39: =IF((Q39<P39),1,) -> 0 | T39: =IF(((R39+S39)>0), "No procede", "Procede") -> Procede
A40: =IF((B40>1),"SI","NO") -> NO | F40: Si | G40: =+U40 -> 0 | I40: NA | J40: NA | K40: NA | L40: 0 | X40: =D40 -> 0 | Z40: =+Z37+1 -> 11
A41: =IF((B41>1),"SI","NO") -> NO | D41: =+D40 -> 0 | F41: Si | G41: =+G40 -> 0 | I41: NA | J41: NA | K41: NA
A42: =IF((B42>1),"SI","NO") -> NO | D42: =+D41 -> 0 | F42: Si | G42: =+G41 -> 0 | I42: NA | J42: NA | K42: NA | M42: =(MEDIAN(L40:L42))*1.1 -> 0 | N42: =MAX(L40:L42) -> 0 | O42: =AVERAGE(L40:L42)*1.2 -> 0 | P42: =AVERAGE(L40:L42)/1.4 -> 0 | Q42: =MIN(L40:L42) -> 0 | R42: =IF((N42>O42),1,) -> 0 | S42: =IF((Q42<P42),1,) -> 0 | T42: =IF(((R42+S42)>0), "No procede", "Procede") -> Procede
...

Sheet Constancia de no Existencia
B1: CONSTANCIA DE EXISTENCIAS DE BIENES EN ALMACÉN
B3: Área requirente: | D3: ='Investigacion de Mercado'!F7 -> 0 | J3: FO-CON-02
B4: Fecha: | D4: ='Investigacion de Mercado'!D3 -> 0
B5: No. de requisición: | D5: ='Investigacion de Mercado'!D4 -> 0
A8: IMPRIMIR | B8: Partida presupuestal | C8: CUCOP | D8: Posición o partida | E8: Descripción | F8: Cantidad Requerida | G8: Unidad de medida | H8: Existencia | I8: Fecha de última entrada | J8: Existencia disponible | K8: Bienes asignados | L8: Observaciones en caso de que las existencias se encuentren asignadas | M8: Rotación de inventario
A10: =IF((B10>1),"SI","NO") -> NO | B10: ='Investigacion de Mercado'!W10 -> 0 | C10: ='Investigacion de Mercado'!X10 -> 989898 | D10: ='Investigacion de Mercado'!Z10 -> 1 | E10: ='Investigacion de Mercado'!AA10 -> 0 | F10: ='Investigacion de Mercado'!U10 -> 9 | G10: ='Investigacion de Mercado'!V10 -> 0 | H10: 0 | I10: NA | J10: 0 | K10: 0 | L10: NA | M10: NA
A11: =IF((B11>1),"SI","NO") -> NO | B11: ='Investigacion de Mercado'!W13 -> 0 | C11: ='Investigacion de Mercado'!X13 -> 0 | D11: ='Investigacion de Mercado'!Z13 -> 2 | E11: ='Investigacion de Mercado'!AA13 -> 0 | F11: ='Investigacion de Mercado'!U13 -> 0 | G11: ='Investigacion de Mercado'!V13 -> 0 | H11: 0 | I11: NA | J11: 0 | K11: 0 | L11: NA | M11: NA
A12: =IF((B12>1),"SI","NO") -> NO | B12: ='Investigacion de Mercado'!W16 -> 0 | C12: ='Investigacion de Mercado'!X16 -> 0 | D12: ='Investigacion de Mercado'!Z16 -> 3 | E12: ='Investigacion de Mercado'!AA16 -> 0 | F12: ='Investigacion de Mercado'!U16 -> 0 | G12: ='Investigacion de Mercado'!V16 -> 0 | H12: 0 | I12: NA | J12: 0 | K12: 0 | L12: NA | M12: NA
A13: =IF((B13>1),"SI","NO") -> NO | B13: ='Investigacion de Mercado'!W19 -> 0 | C13: ='Investigacion de Mercado'!X19 -> 0 | D13: ='Investigacion de Mercado'!Z19 -> 4 | E13: ='Investigacion de Mercado'!AA19 -> 0 | F13: ='Investigacion de Mercado'!U19 -> 0 | G13: ='Investigacion de Mercado'!V19 -> 0 | H13: 0 | I13: NA | J13: 0 | K13: 0 | L13: NA | M13: NA
A14: =IF((B14>1),"SI","NO") -> NO | B14: ='Investigacion de Mercado'!W22 -> 0 | C14: ='Investigacion de Mercado'!X22 -> 0 | D14: ='Investigacion de Mercado'!Z22 -> 5 | E14: ='Investigacion de Mercado'!AA22 -> 0 | F14: ='Investigacion de Mercado'!U22 -> 0 | G14: ='Investigacion de Mercado'!V22 -> 0 | H14: 0 | I14: NA | J14: 0 | K14: 0 | L14: NA | M14: NA
A15: =IF((B15>1),"SI","NO") -> NO | B15: ='Investigacion de Mercado'!W25 -> 0 | C15: ='Investigacion de Mercado'!X25 -> 0 | D15: ='Investigacion de Mercado'!Z25 -> 6 | E15: ='Investigacion de Mercado'!AA25 -> 0 | F15: ='Investigacion de Mercado'!U25 -> 0 | G15: ='Investigacion de Mercado'!V25 -> 0 | H15: 0 | I15: NA | J15: 0 | K15: 0 | L15: NA | M15: NA
A16: =IF((B16>1),"SI","NO") -> NO | B16: ='Investigacion de Mercado'!W28 -> 0 | C16: ='Investigacion de Mercado'!X28 -> 0 | D16: ='Investigacion de Mercado'!Z28 -> 7 | E16: ='Investigacion de Mercado'!AA28 -> 0 | F16: ='Investigacion de Mercado'!U28 -> 0 | G16: ='Investigacion de Mercado'!V28 -> 0 | H16: 0 | I16: NA | J16: 0 | K16: 0 | L16: NA | M16: NA
A17: =IF((B17>1),"SI","NO") -> NO | B17: ='Investigacion de Mercado'!W31 -> 0 | C17: ='Investigacion de Mercado'!X31 -> 0 | D17: ='Investigacion de Mercado'!Z31 -> 8 | E17: ='Investigacion de Mercado'!AA31 -> 0 | F17: ='Investigacion de Mercado'!U31 -> 0 | G17: ='Investigacion de Mercado'!V31 -> 0 | H17: 0 | I17: NA | J17: 0 | K17: 0 | L17: NA | M17: NA
A18: =IF((B18>1),"SI","NO") -> NO | B18: ='Investigacion de Mercado'!W34 -> 0 | C18: ='Investigacion de Mercado'!X34 -> 0 | D18: ='Investigacion de Mercado'!Z34 -> 9 | E18: ='Investigacion de Mercado'!AA34 -> 0 | F18: ='Investigacion de Mercado'!U34 -> 0 | G18: ='Investigacion de Mercado'!V34 -> 0 | H18: 0 | I18: NA | J18: 0 | K18: 0 | L18: NA | M18: NA
A19: =IF((B19>1),"SI","NO") -> NO | B19: ='Investigacion de Mercado'!W37 -> 0 | C19: ='Investigacion de Mercado'!X37 -> 0 | D19: ='Investigacion de Mercado'!Z37 -> 10 | E19: ='Investigacion de Mercado'!AA37 -> 0 | F19: ='Investigacion de Mercado'!U37 -> 0 | G19: ='Investigacion de Mercado'!V37 -> 0 | H19: 0 | I19: NA | J19: 0 | K19: 0 | L19: NA | M19: NA
A20: =IF((B20>1),"SI","NO") -> NO | B20: ='Investigacion de Mercado'!W40 -> 0 | C20: ='Investigacion de Mercado'!X40 -> 0 | D20: ='Investigacion de Mercado'!Z40 -> 11 | E20: ='Investigacion de Mercado'!AA40 -> 0 | F20: ='Investigacion de Mercado'!U40 -> 0 | G20: ='Investigacion de Mercado'!V40 -> 0 | H20: 0 | I20: NA | J20: 0 | K20: 0 | L20: NA | M20: NA
A21: =IF((B21>1),"SI","NO") -> NO | B21: ='Investigacion de Mercado'!W43 -> 0 | C21: ='Investigacion de Mercado'!X43 -> 0 | D21: ='Investigacion de Mercado'!Z43 -> 12 | E21: ='Investigacion de Mercado'!AA43 -> 0 | F21: ='Investigacion de Mercado'!U43 -> 0 | G21: ='Investigacion de Mercado'!V43 -> 0 | H21: 0 | I21: NA | J21: 0 | K21: 0 | L21: NA | M21: NA
A22: =IF((B22>1),"SI","NO") -> NO | B22: ='Investigacion de Mercado'!W46 -> 0 | C22: ='Investigacion de Mercado'!X46 -> 0 | D22: ='Investigacion de Mercado'!Z46 -> 13 | E22: ='Investigacion de Mercado'!AA46 -> 0 | F22: ='Investigacion de Mercado'!U46 -> 0 | G22: ='Investigacion de Mercado'!V46 -> 0 | H22: 0 | I22: NA | J22: 0 | K22: 0 | L22: NA | M22: NA
A23: =IF((B23>1),"SI","NO") -> NO | B23: ='Investigacion de Mercado'!W49 -> 0 | C23: ='Investigacion de Mercado'!X49 -> 0 | D23: ='Investigacion de Mercado'!Z49 -> 14 | E23: ='Investigacion de Mercado'!AA49 -> 0 | F23: ='Investigacion de Mercado'!U49 -> 0 | G23: ='Investigacion de Mercado'!V49 -> 0 | H23: 0 | I23: NA | J23: 0 | K23: 0 | L23: NA | M23: NA
B24: a
B25: a | C25: Solicitante | I25: Responsable del almacén
B26: a
B27: a
B28: Nota: Esta constancia, sólo es válido con el sello del almacén.
B29: OBJETIVO:
B30: Garantizar que el área requirente verificó en el almacen el nivel de existencia de los bienes que requiere y en su caso justificar la adquisición de los mismos como resultado de las estrategias determinadas por la dependencia o entidad para el adecuado control de los inventarios (artículo 27 del Reglamento de la Ley de Adquisiciones, Arrendamientos y Servicios del Sector Público)

Sheet Requisición
D1: REQUISICIÓN DE BIENES Y SERVICIOS
D2: FO-CON-03
B4: Nombre de la dependencia o entidad: | E4: ='Investigacion de Mercado'!F7 -> 0 | H4: No. de requisición: | I4: ='Investigacion de Mercado'!D4 -> 0
B5: Área requirente: | E5: ='Investigacion de Mercado'!F7 -> 0 | H5: Fecha requerida: | I5: DE ACUERDO A ANEXOS
B6: Fecha de elaboración: | E6: ='Investigacion de Mercado'!D3 -> 0 | H6: Lugar de entrega: | I6: DE ACUERDO A ANEXOS
A9: IMPRIMIR | B9: Partida presupuestal | C9: CUCOP | D9: UR | E9: Proyecto Cod Prog | F9: Area Funcional | G9: Fondo | H9: Orden de Trabajo | I9: Posición o partida | J9: Descripción | K9: Cantidad solicitada | L9: Unidad de medida | M9: Precio unitario | N9: Importe
A10: =IF((B10>1),"SI","NO") -> NO | B10: =+'Constancia de no Existencia'!B10 -> 0 | C10: =+'Constancia de no Existencia'!C10 -> 989898 | I10: =+'Constancia de no Existencia'!D10 -> 1 | J10: =+'Constancia de no Existencia'!E10 -> 0 | K10: ='Constancia de no Existencia'!F10 -> 9 | L10: =+'Constancia de no Existencia'!G10 -> 0 | M10: ='Investigacion de Mercado'!M12 -> 0 | N10: =+K10*M10 -> 0
A11: =IF((B11>1),"SI","NO") -> NO | B11: =+'Constancia de no Existencia'!B11 -> 0 | C11: =+'Constancia de no Existencia'!C11 -> 0 | I11: =+'Constancia de no Existencia'!D11 -> 2 | J11: =+'Constancia de no Existencia'!E11 -> 0 | K11: ='Constancia de no Existencia'!F11 -> 0 | L11: =+'Constancia de no Existencia'!G11 -> 0 | M11: ='Investigacion de Mercado'!M15 -> 0 | N11: =+K11*M11 -> 0
A12: =IF((B12>1),"SI","NO") -> NO | B12: =+'Constancia de no Existencia'!B12 -> 0 | C12: =+'Constancia de no Existencia'!C12 -> 0 | I12: =+'Constancia de no Existencia'!D12 -> 3 | J12: =+'Constancia de no Existencia'!E12 -> 0 | K12: ='Constancia de no Existencia'!F12 -> 0 | L12: =+'Constancia de no Existencia'!G12 -> 0 | M12: ='Investigacion de Mercado'!M18 -> 0 | N12: =+K12*M12 -> 0
A13: =IF((B13>1),"SI","NO") -> NO | B13: =+'Constancia de no Existencia'!B13 -> 0 | C13: =+'Constancia de no Existencia'!C13 -> 0 | I13: =+'Constancia de no Existencia'!D13 -> 4 | J13: =+'Constancia de no Existencia'!E13 -> 0 | K13: ='Constancia de no Existencia'!F13 -> 0 | L13: =+'Constancia de no Existencia'!G13 -> 0 | M13: ='Investigacion de Mercado'!M21 -> 0 | N13: =+K13*M13 -> 0
A14: =IF((B14>1),"SI","NO") -> NO | B14: =+'Constancia de no Existencia'!B14 -> 0 | C14: =+'Constancia de no Existencia'!C14 -> 0 | I14: =+'Constancia de no Existencia'!D14 -> 5 | J14: =+'Constancia de no Existencia'!E14 -> 0 | K14: ='Constancia de no Existencia'!F14 -> 0 | L14: =+'Constancia de no Existencia'!G14 -> 0 | M14: ='Investigacion de Mercado'!M24 -> 0 | N14: =+K14*M14 -> 0
A15: =IF((B15>1),"SI","NO") -> NO | B15: =+'Constancia de no Existencia'!B15 -> 0 | C15: =+'Constancia de no Existencia'!C15 -> 0 | I15: =+'Constancia de no Existencia'!D15 -> 6 | J15: =+'Constancia de no Existencia'!E15 -> 0 | K15: ='Constancia de no Existencia'!F15 -> 0 | L15: =+'Constancia de no Existencia'!G15 -> 0 | M15: ='Investigacion de Mercado'!M27 -> 0 | N15: =+K15*M15 -> 0
A16: =IF((B16>1),"SI","NO") -> NO | B16: =+'Constancia de no Existencia'!B16 -> 0 | C16: =+'Constancia de no Existencia'!C16 -> 0 | I16: =+'Constancia de no Existencia'!D16 -> 7 | J16: =+'Constancia de no Existencia'!E16 -> 0 | K16: ='Constancia de no Existencia'!F16 -> 0 | L16: =+'Constancia de no Existencia'!G16 -> 0 | M16: ='Investigacion de Mercado'!M30 -> 0 | N16: =+K16*M16 -> 0
A17: =IF((B17>1),"SI","NO") -> NO | B17: =+'Constancia de no Existencia'!B17 -> 0 | C17: =+'Constancia de no Existencia'!C17 -> 0 | I17: =+'Constancia de no Existencia'!D17 -> 8 | J17: =+'Constancia de no Existencia'!E17 -> 0 | K17: ='Constancia de no Existencia'!F17 -> 0 | L17: =+'Constancia de no Existencia'!G17 -> 0 | M17: ='Investigacion de Mercado'!M33 -> 0 | N17: =+K17*M17 -> 0
A18: =IF((B18>1),"SI","NO") -> NO | B18: =+'Constancia de no Existencia'!B18 -> 0 | C18: =+'Constancia de no Existencia'!C18 -> 0 | I18: =+'Constancia de no Existencia'!D18 -> 9 | J18: =+'Constancia de no Existencia'!E18 -> 0 | K18: ='Constancia de no Existencia'!F18 -> 0 | L18: =+'Constancia de no Existencia'!G18 -> 0 | M18: ='Investigacion de Mercado'!M36 -> 0 | N18: =+K18*M18 -> 0
A19: =IF((B19>1),"SI","NO") -> NO | B19: =+'Constancia de no Existencia'!B19 -> 0 | C19: =+'Constancia de no Existencia'!C19 -> 0 | I19: =+'Constancia de no Existencia'!D19 -> 10 | J19: =+'Constancia de no Existencia'!E19 -> 0 | K19: ='Constancia de no Existencia'!F19 -> 0 | L19: =+'Constancia de no Existencia'!G19 -> 0 | M19: ='Investigacion de Mercado'!M39 -> 0 | N19: =+K19*M19 -> 0
A20: =IF((B20>1),"SI","NO") -> NO | B20: =+'Constancia de no Existencia'!B20 -> 0 | C20: =+'Constancia de no Existencia'!C20 -> 0 | I20: =+'Constancia de no Existencia'!D20 -> 11 | J20: =+'Constancia de no Existencia'!E20 -> 0 | K20: ='Constancia de no Existencia'!F20 -> 0 | L20: =+'Constancia de no Existencia'!G20 -> 0 | M20: ='Investigacion de Mercado'!M42 -> 0 | N20: =+K20*M20 -> 0
A21: =IF((B21>1),"SI","NO") -> NO | B21: =+'Constancia de no Existencia'!B21 -> 0 | C21: =+'Constancia de no Existencia'!C21 -> 0 | I21: =+'Constancia de no Existencia'!D21 -> 12 | J21: =+'Constancia de no Existencia'!E21 -> 0 | K21: ='Constancia de no Existencia'!F21 -> 0 | L21: =+'Constancia de no Existencia'!G21 -> 0 | M21: ='Investigacion de Mercado'!M45 -> 0 | N21: =+K21*M21 -> 0
A22: =IF((B22>1),"SI","NO") -> NO | B22: =+'Constancia de no Existencia'!B22 -> 0 | C22: =+'Constancia de no Existencia'!C22 -> 0 | I22: =+'Constancia de no Existencia'!D22 -> 13 | J22: =+'Constancia de no Existencia'!E22 -> 0 | K22: ='Constancia de no Existencia'!F22 -> 0 | L22: =+'Constancia de no Existencia'!G22 -> 0 | M22: ='Investigacion de Mercado'!M48 -> 0 | N22: =+K22*M22 -> 0
A23: =IF((B23>1),"SI","NO") -> NO | B23: =+'Constancia de no Existencia'!B23 -> 0 | C23: =+'Constancia de no Existencia'!C23 -> 0 | I23: =+'Constancia de no Existencia'!D23 -> 14 | J23: =+'Constancia de no Existencia'!E23 -> 0 | K23: ='Constancia de no Existencia'!F23 -> 0 | L23: =+'Constancia de no Existencia'!G23 -> 0 | M23: ='Investigacion de Mercado'!M51 -> 0 | N23: =+K23*M23 -> 0
B25: Anexos a su requisición: | D25: Investigación de mercado con su soporte, constancia de no existencias y requisición | M25: Subtotal: | N25: =SUM(N10:N23) -> 0
M26: I.V.A.: | N26: =IF(P26="SI",N25*0.16,0) -> 0 | O26: Causa IVA | P26: NO | Q26: SI
B27: Observaciones: | M27: Otros gravámenes: | Q27: NO
M28: Total: | N28: =N25+N26 -> 0
B30: Anticipo: | D30: NO APLICA | F30: Tipo de procedimiento de contratación: | H30: =+'Investigacion de Mercado'!D5 -> 0 | K30: Registro sanitario: | M30: NO APLICA
B31: Existencia en almacen: | D31: ANEXO | F31: Autorización del presupuesto: | H31: SE | K31: Normas / niveles de inspección: | M31: NO APLICA
B32: Capacitación: | D32: NO APLICA | F32: Tipo de garantía y porcentaje: | H32: 12% ANTES DE IVA DEL TOTAL ADJUDICADO | K32: País de origen: | M32: NACIONAL/IMPORTADO
B33: Tiempo de fabricación: | D33: NO APLICA | F33: Condiciones de entrega : | H33: SEGÚN ANEXO TECNICO | K33: Anticipo: | M33: NO APLICA
B34: Métodos de prueba: | D34: NO APLICA | F34: Condiciones de pago: | H34: 20 DIAS NATURALES CONTRAENTREGA DE FACTURA A ENTERA SATISFACCION | K34: Penas convencionales : | M34: 1% DIARIO
L36: Validación de Suficiencia Presupuestal:
B37: Solicita | F37: Autoriza
M39: Nombre cargo y firma

Sheet Comprador
A1: Partida | B1: CUCOP | C1: Proveedor | D1: Precio Unitario con I VA | E1: Filtro vs Lay
A2: ='Investigacion de Mercado'!Z10 -> 1 | B2: =+'Investigacion de Mercado'!X10 -> 989898 | C2: =+'Investigacion de Mercado'!B10 -> 0 | D2: =+'Investigacion de Mercado'!L10*1.16 -> 0
A3: =A2 -> 1 | C3: =+'Investigacion de Mercado'!B11 -> 0 | D3: =+'Investigacion de Mercado'!L11*1.16 -> 0
A4: =A3 -> 1 | C4: =+'Investigacion de Mercado'!B12 -> 0 | D4: =+'Investigacion de Mercado'!L12*1.16 -> 0
A5: ='Investigacion de Mercado'!Z13 -> 2 | B5: =+'Investigacion de Mercado'!X13 -> 0 | C5: =+'Investigacion de Mercado'!B13 -> 0 | D5: =+'Investigacion de Mercado'!L13*1.16 -> 0
A6: =A5 -> 2 | C6: =+'Investigacion de Mercado'!B14 -> 0 | D6: =+'Investigacion de Mercado'!L14*1.16 -> 0
A7: =A6 -> 2 | C7: =+'Investigacion de Mercado'!B15 -> 0 | D7: =+'Investigacion de Mercado'!L15*1.16 -> 0
A8: ='Investigacion de Mercado'!Z16 -> 3 | B8: =+'Investigacion de Mercado'!X16 -> 0 | C8: =+'Investigacion de Mercado'!B16 -> 0 | D8: =+'Investigacion de Mercado'!L16*1.16 -> 0
A9: =A8 -> 3 | C9: =+'Investigacion de Mercado'!B17 -> 0 | D9: =+'Investigacion de Mercado'!L17*1.16 -> 0
A10: =A9 -> 3 | C10: =+'Investigacion de Mercado'!B18 -> 0 | D10: =+'Investigacion de Mercado'!L18*1.16 -> 0
A11: ='Investigacion de Mercado'!Z19 -> 4 | B11: =+'Investigacion de Mercado'!X19 -> 0 | C11: =+'Investigacion de Mercado'!B19 -> 0 | D11: =+'Investigacion de Mercado'!L19*1.16 -> 0
A12: =A11 -> 4 | C12: =+'Investigacion de Mercado'!B20 -> 0 | D12: =+'Investigacion de Mercado'!L20*1.16 -> 0
A13: =A12 -> 4 | C13: =+'Investigacion de Mercado'!B21 -> 0 | D13: =+'Investigacion de Mercado'!L21*1.16 -> 0
A14: ='Investigacion de Mercado'!Z22 -> 5 | B14: =+'Investigacion de Mercado'!X22 -> 0 | C14: =+'Investigacion de Mercado'!B22 -> 0 | D14: =+'Investigacion de Mercado'!L22*1.16 -> 0
A15: =A14 -> 5 | C15: =+'Investigacion de Mercado'!B23 -> 0 | D15: =+'Investigacion de Mercado'!L23*1.16 -> 0
A16: =A15 -> 5 | C16: =+'Investigacion de Mercado'!B24 -> 0 | D16: =+'Investigacion de Mercado'!L24*1.16 -> 0
A17: ='Investigacion de Mercado'!Z25 -> 6 | B17: =+'Investigacion de Mercado'!X25 -> 0 | C17: =+'Investigacion de Mercado'!B25 -> 0 | D17: =+'Investigacion de Mercado'!L25*1.16 -> 0
A18: =A17 -> 6 | C18: =+'Investigacion de Mercado'!B26 -> 0 | D18: =+'Investigacion de Mercado'!L26*1.16 -> 0
A19: =A18 -> 6 | C19: =+'Investigacion de Mercado'!B27 -> 0 | D19: =+'Investigacion de Mercado'!L27*1.16 -> 0
A20: ='Investigacion de Mercado'!Z28 -> 7 | B20: =+'Investigacion de Mercado'!X28 -> 0 | C20: =+'Investigacion de Mercado'!B28 -> 0 | D20: =+'Investigacion de Mercado'!L28*1.16 -> 0
A21: =A20 -> 7 | C21: =+'Investigacion de Mercado'!B29 -> 0 | D21: =+'Investigacion de Mercado'!L29*1.16 -> 0
A22: =A21 -> 7 | C22: =+'Investigacion de Mercado'!B30 -> 0 | D22: =+'Investigacion de Mercado'!L30*1.16 -> 0
A23: ='Investigacion de Mercado'!Z31 -> 8 | B23: =+'Investigacion de Mercado'!X31 -> 0 | C23: =+'Investigacion de Mercado'!B31 -> 0 | D23: =+'Investigacion de Mercado'!L31*1.16 -> 0
A24: =A23 -> 8 | C24: =+'Investigacion de Mercado'!B32 -> 0 | D24: =+'Investigacion de Mercado'!L32*1.16 -> 0
A25: =A24 -> 8 | C25: =+'Investigacion de Mercado'!B33 -> 0 | D25: =+'Investigacion de Mercado'!L33*1.16 -> 0
A26: ='Investigacion de Mercado'!Z34 -> 9 | B26: =+'Investigacion de Mercado'!X34 -> 0 | C26: =+'Investigacion de Mercado'!B34 -> 0 | D26: =+'Investigacion de Mercado'!L34*1.16 -> 0
A27: =A26 -> 9 | C27: =+'Investigacion de Mercado'!B35 -> 0 | D27: =+'Investigacion de Mercado'!L35*1.16 -> 0
A28: =A27 -> 9 | C28: =+'Investigacion de Mercado'!B36 -> 0 | D28: =+'Investigacion de Mercado'!L36*1.16 -> 0
A29: ='Investigacion de Mercado'!Z37 -> 10 | B29: =+'Investigacion de Mercado'!X37 -> 0 | C29: =+'Investigacion de Mercado'!B37 -> 0 | D29: =+'Investigacion de Mercado'!L37*1.16 -> 0
A30: =A29 -> 10 | C30: =+'Investigacion de Mercado'!B38 -> 0 | D30: =+'Investigacion de Mercado'!L38*1.16 -> 0
A31: =A30 -> 10 | C31: =+'Investigacion de Mercado'!B39 -> 0 | D31: =+'Investigacion de Mercado'!L39*1.16 -> 0
A32: ='Investigacion de Mercado'!Z40 -> 11 | B32: =+'Investigacion de Mercado'!X40 -> 0 | C32: =+'Investigacion de Mercado'!B40 -> 0 | D32: =+'Investigacion de Mercado'!L40*1.16 -> 0
A33: =A32 -> 11 | C33: =+'Investigacion de Mercado'!B41 -> 0 | D33: =+'Investigacion de Mercado'!L41*1.16 -> 0
A34: =A33 -> 11 | C34: =+'Investigacion de Mercado'!B42 -> 0 | D34: =+'Investigacion de Mercado'!L42*1.16 -> 0
A35: ='Investigacion de Mercado'!Z43 -> 12 | B35: =+'Investigacion de Mercado'!X43 -> 0 | C35: =+'Investigacion de Mercado'!B43 -> 0 | D35: =+'Investigacion de Mercado'!L43*1.16 -> 0
A36: =A35 -> 12 | C36: =+'Investigacion de Mercado'!B44 -> 0 | D36: =+'Investigacion de Mercado'!L44*1.16 -> 0
A37: =A36 -> 12 | C37: =+'Investigacion de Mercado'!B45 -> 0 | D37: =+'Investigacion de Mercado'!L45*1.16 -> 0
A38: ='Investigacion de Mercado'!Z46 -> 13 | B38: =+'Investigacion de Mercado'!X46 -> 0 | C38: =+'Investigacion de Mercado'!B46 -> 0 | D38: =+'Investigacion de Mercado'!L46*1.16 -> 0
A39: =A38 -> 13 | C39: =+'Investigacion de Mercado'!B47 -> 0 | D39: =+'Investigacion de Mercado'!L47*1.16 -> 0
A40: =A39 -> 13 | C40: =+'Investigacion de Mercado'!B48 -> 0 | D40: =+'Investigacion de Mercado'!L48*1.16 -> 0
...

Sheet Hoja2
A1: Procedimiento | E1: Origen
A2: Licitación pública | E2: Afganistán
A3: Invitación a cuando menos tres personas | E3: África del Sur
A4: Adjudicación directa | E4: Albania
E5: Alemania
A6: Criterio | E6: Andorra
A7: Puntos y porcentajes | E7: Angola
A8: Costo beneficio | E8: Antigua y Barbuda
A9: Binario | E9: Antillas Holandesas
E10: Arabia Saudita
A11: Si | E11: Argelia
A12: No | E12: Argentina
E13: Armenia
E14: Aruba
E15: Australia
E16: Austria
E17: Azerbaiyán
E18: Bahamas
E19: Bahréin
E20: Bangladesh
E21: Barbados
E22: Bielorrusia
E23: Bélgica
E24: Belice
... E218: Zimbabwe
